BEGIN:VCALENDAR
VERSION:2.0
PRODID:-//Swiss Fencing - ECPv6.15.20//NONSGML v1.0//EN
CALSCALE:GREGORIAN
METHOD:PUBLISH
X-ORIGINAL-URL:https://swiss-fencing.ch
X-WR-CALDESC:Évènements pour Swiss Fencing
REFRESH-INTERVAL;VALUE=DURATION:PT1H
X-Robots-Tag:noindex
X-PUBLISHED-TTL:PT1H
BEGIN:VTIMEZONE
TZID:Europe/Zurich
BEGIN:DAYLIGHT
TZOFFSETFROM:+0100
TZOFFSETTO:+0200
TZNAME:CEST
DTSTART:20230326T010000
END:DAYLIGHT
BEGIN:STANDARD
TZOFFSETFROM:+0200
TZOFFSETTO:+0100
TZNAME:CET
DTSTART:20231029T010000
END:STANDARD
BEGIN:DAYLIGHT
TZOFFSETFROM:+0100
TZOFFSETTO:+0200
TZNAME:CEST
DTSTART:20240331T010000
END:DAYLIGHT
BEGIN:STANDARD
TZOFFSETFROM:+0200
TZOFFSETTO:+0100
TZNAME:CET
DTSTART:20241027T010000
END:STANDARD
BEGIN:DAYLIGHT
TZOFFSETFROM:+0100
TZOFFSETTO:+0200
TZNAME:CEST
DTSTART:20250330T010000
END:DAYLIGHT
BEGIN:STANDARD
TZOFFSETFROM:+0200
TZOFFSETTO:+0100
TZNAME:CET
DTSTART:20251026T010000
END:STANDARD
END:VTIMEZONE
BEGIN:VEVENT
DTSTART;TZID=Europe/Zurich:20240301T000000
DTEND;TZID=Europe/Zurich:20240303T235959
DTSTAMP:20260421T183428
CREATED:20230823T201515Z
LAST-MODIFIED:20230918T202620Z
UID:32842-1709251200-1709510399@swiss-fencing.ch
SUMMARY:Athènes (GRE) - Coupe du Monde
DESCRIPTION:
URL:https://swiss-fencing.ch/cal/athenes-gre-european-circuit/
CATEGORIES:Tournoi de qualification A
END:VEVENT
BEGIN:VEVENT
DTSTART;TZID=Europe/Zurich:20240301T000000
DTEND;TZID=Europe/Zurich:20240303T235959
DTSTAMP:20260421T183428
CREATED:20230823T201654Z
LAST-MODIFIED:20230918T200611Z
UID:32844-1709251200-1709510399@swiss-fencing.ch
SUMMARY:Padova (ITA) - Coupe du Monde
DESCRIPTION:
URL:https://swiss-fencing.ch/cal/padova-ita-european-circuit/
CATEGORIES:Tournoi de qualification A
END:VEVENT
BEGIN:VEVENT
DTSTART;TZID=Europe/Zurich:20240302T000000
DTEND;TZID=Europe/Zurich:20240303T235959
DTSTAMP:20260421T183428
CREATED:20230825T174512Z
LAST-MODIFIED:20230825T174516Z
UID:33057-1709337600-1709510399@swiss-fencing.ch
SUMMARY:Bern (SUI) - CNJ
DESCRIPTION:
URL:https://swiss-fencing.ch/cal/bern-sui-cnj/
CATEGORIES:Circuit National
END:VEVENT
BEGIN:VEVENT
DTSTART;TZID=Europe/Zurich:20240302T000000
DTEND;TZID=Europe/Zurich:20240303T235959
DTSTAMP:20260421T183428
CREATED:20231003T185945Z
LAST-MODIFIED:20231003T185948Z
UID:34027-1709337600-1709510399@swiss-fencing.ch
SUMMARY:Dijon (FRA) - EVF Circuit
DESCRIPTION:
URL:https://swiss-fencing.ch/cal/dijon-fra-evf-circuit/
CATEGORIES:Circuit National
END:VEVENT
BEGIN:VEVENT
DTSTART;TZID=Europe/Zurich:20240308T000000
DTEND;TZID=Europe/Zurich:20240310T235959
DTSTAMP:20260421T183428
CREATED:20230823T201902Z
LAST-MODIFIED:20230918T190822Z
UID:32846-1709856000-1710115199@swiss-fencing.ch
SUMMARY:Budapest (HUN) - Grand Prix
DESCRIPTION:
URL:https://swiss-fencing.ch/cal/budapest-hun-european-circuit-5/
CATEGORIES:Tournoi de qualification A
END:VEVENT
BEGIN:VEVENT
DTSTART;TZID=Europe/Zurich:20240309T000000
DTEND;TZID=Europe/Zurich:20240310T235959
DTSTAMP:20260421T183428
CREATED:20230823T202427Z
LAST-MODIFIED:20230823T202430Z
UID:32848-1709942400-1710115199@swiss-fencing.ch
SUMMARY:Sion (SUI) - CNJ
DESCRIPTION:
URL:https://swiss-fencing.ch/cal/sion-sui-cnj/
CATEGORIES:Circuit National
END:VEVENT
BEGIN:VEVENT
DTSTART;TZID=Europe/Zurich:20240309T000000
DTEND;TZID=Europe/Zurich:20240310T235959
DTSTAMP:20260421T183428
CREATED:20230823T202722Z
LAST-MODIFIED:20230823T202726Z
UID:32850-1709942400-1710115199@swiss-fencing.ch
SUMMARY:Chavornay (SUI) - CNJ
DESCRIPTION:
URL:https://swiss-fencing.ch/cal/chavornay-sui-cnj/
CATEGORIES:Circuit National
END:VEVENT
BEGIN:VEVENT
DTSTART;TZID=Europe/Zurich:20240309T000000
DTEND;TZID=Europe/Zurich:20240310T235959
DTSTAMP:20260421T183428
CREATED:20230823T203727Z
LAST-MODIFIED:20230823T203730Z
UID:32858-1709942400-1710115199@swiss-fencing.ch
SUMMARY:Kamnik (SLO) - European Circuit
DESCRIPTION:
URL:https://swiss-fencing.ch/cal/kamnik-slo-european-circuit/
CATEGORIES:Tournoi de qualification A
END:VEVENT
BEGIN:VEVENT
DTSTART;TZID=Europe/Zurich:20240309T000000
DTEND;TZID=Europe/Zurich:20240310T235959
DTSTAMP:20260421T183428
CREATED:20231003T190307Z
LAST-MODIFIED:20231003T190310Z
UID:34029-1709942400-1710115199@swiss-fencing.ch
SUMMARY:Busto (ITA) - Master
DESCRIPTION:
URL:https://swiss-fencing.ch/cal/busto-ita-master/
CATEGORIES:Circuit National
END:VEVENT
BEGIN:VEVENT
DTSTART;TZID=Europe/Zurich:20240315T000000
DTEND;TZID=Europe/Zurich:20240317T235959
DTSTAMP:20260421T183428
CREATED:20230823T203919Z
LAST-MODIFIED:20230918T202658Z
UID:32860-1710460800-1710719999@swiss-fencing.ch
SUMMARY:St-Niklaas (BEL) - Coupe du Monde
DESCRIPTION:
URL:https://swiss-fencing.ch/cal/st-niklaas-bel-european-circuit/
CATEGORIES:Tournoi de qualification A
END:VEVENT
BEGIN:VEVENT
DTSTART;TZID=Europe/Zurich:20240315T000000
DTEND;TZID=Europe/Zurich:20240317T235959
DTSTAMP:20260421T183428
CREATED:20230823T204504Z
LAST-MODIFIED:20240314T140320Z
UID:32864-1710460800-1710719999@swiss-fencing.ch
SUMMARY:Washington (USA) - Grand Prix
DESCRIPTION:
URL:https://swiss-fencing.ch/cal/anaheim-usa-european-circuit/
CATEGORIES:Tournoi de qualification A
END:VEVENT
BEGIN:VEVENT
DTSTART;TZID=Europe/Zurich:20240316T000000
DTEND;TZID=Europe/Zurich:20240317T235959
DTSTAMP:20260421T183428
CREATED:20230823T204136Z
LAST-MODIFIED:20240314T140500Z
UID:32862-1710547200-1710719999@swiss-fencing.ch
SUMMARY:Lausanne (SUI) - European Circuit
DESCRIPTION:
URL:https://swiss-fencing.ch/cal/lausanne-sui-european-circuit/
CATEGORIES:Tournoi de qualification A
END:VEVENT
BEGIN:VEVENT
DTSTART;TZID=Europe/Zurich:20240322T000000
DTEND;TZID=Europe/Zurich:20240324T235959
DTSTAMP:20260421T183428
CREATED:20230823T204736Z
LAST-MODIFIED:20240314T140647Z
UID:32866-1711065600-1711324799@swiss-fencing.ch
SUMMARY:Nanjing (CHN) - Coupe du Monde
DESCRIPTION:
URL:https://swiss-fencing.ch/cal/chengdu-chn-european-circuit/
CATEGORIES:Tournoi de qualification A
END:VEVENT
BEGIN:VEVENT
DTSTART;TZID=Europe/Zurich:20240322T000000
DTEND;TZID=Europe/Zurich:20240324T235959
DTSTAMP:20260421T183428
CREATED:20230823T204918Z
LAST-MODIFIED:20240314T140757Z
UID:32868-1711065600-1711324799@swiss-fencing.ch
SUMMARY:Tbilisi (GEO) - Coupe du Monde
DESCRIPTION:
URL:https://swiss-fencing.ch/cal/buenos-aires-arg-european-circuit/
CATEGORIES:Tournoi de qualification A
END:VEVENT
BEGIN:VEVENT
DTSTART;TZID=Europe/Zurich:20240322T000000
DTEND;TZID=Europe/Zurich:20240324T235959
DTSTAMP:20260421T183428
CREATED:20230823T205138Z
LAST-MODIFIED:20240314T140922Z
UID:32870-1711065600-1711324799@swiss-fencing.ch
SUMMARY:Budapest (HUN) - Coupe du Monde
DESCRIPTION:
URL:https://swiss-fencing.ch/cal/budapest-hun-european-circuit-6/
CATEGORIES:Tournoi de qualification A
END:VEVENT
BEGIN:VEVENT
DTSTART;TZID=Europe/Zurich:20240323T000000
DTEND;TZID=Europe/Zurich:20240323T235959
DTSTAMP:20260421T183428
CREATED:20230823T203431Z
LAST-MODIFIED:20230823T203434Z
UID:32856-1711152000-1711238399@swiss-fencing.ch
SUMMARY:Bern (SUI) - CNV
DESCRIPTION:
URL:https://swiss-fencing.ch/cal/bern-sui-cnv/
CATEGORIES:Circuit National
END:VEVENT
BEGIN:VEVENT
DTSTART;TZID=Europe/Zurich:20240323T000000
DTEND;TZID=Europe/Zurich:20240324T235959
DTSTAMP:20260421T183428
CREATED:20230823T203209Z
LAST-MODIFIED:20230823T203212Z
UID:32854-1711152000-1711324799@swiss-fencing.ch
SUMMARY:Küssnacht (SUI) - CNJ
DESCRIPTION:
URL:https://swiss-fencing.ch/cal/kussnacht-sui-cnj-2/
CATEGORIES:Circuit National
END:VEVENT
END:VCALENDAR