BEGIN:VCALENDAR
VERSION:2.0
PRODID:-//Swiss Fencing - ECPv6.15.20//NONSGML v1.0//EN
CALSCALE:GREGORIAN
METHOD:PUBLISH
X-ORIGINAL-URL:https://swiss-fencing.ch
X-WR-CALDESC:Évènements pour Swiss Fencing
REFRESH-INTERVAL;VALUE=DURATION:PT1H
X-Robots-Tag:noindex
X-PUBLISHED-TTL:PT1H
BEGIN:VTIMEZONE
TZID:Europe/Zurich
BEGIN:DAYLIGHT
TZOFFSETFROM:+0100
TZOFFSETTO:+0200
TZNAME:CEST
DTSTART:20240331T010000
END:DAYLIGHT
BEGIN:STANDARD
TZOFFSETFROM:+0200
TZOFFSETTO:+0100
TZNAME:CET
DTSTART:20241027T010000
END:STANDARD
BEGIN:DAYLIGHT
TZOFFSETFROM:+0100
TZOFFSETTO:+0200
TZNAME:CEST
DTSTART:20250330T010000
END:DAYLIGHT
BEGIN:STANDARD
TZOFFSETFROM:+0200
TZOFFSETTO:+0100
TZNAME:CET
DTSTART:20251026T010000
END:STANDARD
BEGIN:DAYLIGHT
TZOFFSETFROM:+0100
TZOFFSETTO:+0200
TZNAME:CEST
DTSTART:20260329T010000
END:DAYLIGHT
BEGIN:STANDARD
TZOFFSETFROM:+0200
TZOFFSETTO:+0100
TZNAME:CET
DTSTART:20261025T010000
END:STANDARD
END:VTIMEZONE
BEGIN:VEVENT
DTSTART;TZID=Europe/Zurich:20250405T000000
DTEND;TZID=Europe/Zurich:20250406T235959
DTSTAMP:20260421T103211
CREATED:20240818T091615Z
LAST-MODIFIED:20240818T092240Z
UID:41558-1743811200-1743983999@swiss-fencing.ch
SUMMARY:Basel (SUI) – Circuit National Jeunesse
DESCRIPTION:
URL:https://swiss-fencing.ch/cal/basel-sui-circuit-national-jeunesse/
CATEGORIES:Circuit National
END:VEVENT
BEGIN:VEVENT
DTSTART;TZID=Europe/Zurich:20250405T000000
DTEND;TZID=Europe/Zurich:20250406T235959
DTSTAMP:20260421T103211
CREATED:20240818T094129Z
LAST-MODIFIED:20240818T095043Z
UID:41607-1743811200-1743983999@swiss-fencing.ch
SUMMARY:Founex (SUI) – CNJ/CNV
DESCRIPTION:
URL:https://swiss-fencing.ch/cal/founex-sui-cnj-cnv/
CATEGORIES:Circuit National
END:VEVENT
BEGIN:VEVENT
DTSTART;TZID=Europe/Zurich:20250405T000000
DTEND;TZID=Europe/Zurich:20250413T235959
DTSTAMP:20260421T103211
CREATED:20240818T193544Z
LAST-MODIFIED:20240818T194418Z
UID:41892-1743811200-1744588799@swiss-fencing.ch
SUMMARY:Wuxi (CHN) – World Championships
DESCRIPTION:
URL:https://swiss-fencing.ch/cal/wuxi-chn-world-championships/
CATEGORIES:Championnats du Monde/Europe
END:VEVENT
BEGIN:VEVENT
DTSTART;TZID=Europe/Zurich:20250412T000000
DTEND;TZID=Europe/Zurich:20250413T235959
DTSTAMP:20260421T103211
CREATED:20241019T220029Z
LAST-MODIFIED:20241019T220308Z
UID:44607-1744416000-1744588799@swiss-fencing.ch
SUMMARY:Zagreb (CRO) - European Circuit
DESCRIPTION:
URL:https://swiss-fencing.ch/cal/zagreb-cro-european-circuit-2/
CATEGORIES:Tournoi de qualification A
END:VEVENT
BEGIN:VEVENT
DTSTART;TZID=Europe/Zurich:20250412T000000
DTEND;TZID=Europe/Zurich:20250413T235959
DTSTAMP:20260421T103211
CREATED:20241019T220528Z
LAST-MODIFIED:20241019T220532Z
UID:44611-1744416000-1744588799@swiss-fencing.ch
SUMMARY:Clermont-Ferrand (FRA) - EVF
DESCRIPTION:
URL:https://swiss-fencing.ch/cal/clermont-ferrand-fra-evf/
CATEGORIES:Tournoi de qualification A
END:VEVENT
BEGIN:VEVENT
DTSTART;TZID=Europe/Zurich:20250424T000000
DTEND;TZID=Europe/Zurich:20250427T235959
DTSTAMP:20260421T103211
CREATED:20240818T195426Z
LAST-MODIFIED:20241019T215625Z
UID:41922-1745452800-1745798399@swiss-fencing.ch
SUMMARY:Tallinn (EST) – European Championships
DESCRIPTION:
URL:https://swiss-fencing.ch/cal/tallinn-est-european-championships/
CATEGORIES:Championnats du Monde/Europe
END:VEVENT
END:VCALENDAR