BEGIN:VCALENDAR
VERSION:2.0
PRODID:-//Swiss Fencing - ECPv6.15.20//NONSGML v1.0//EN
CALSCALE:GREGORIAN
METHOD:PUBLISH
X-WR-CALNAME:Swiss Fencing
X-ORIGINAL-URL:https://swiss-fencing.ch/de/
X-WR-CALDESC:Veranstaltungen für Swiss Fencing
REFRESH-INTERVAL;VALUE=DURATION:PT1H
X-Robots-Tag:noindex
X-PUBLISHED-TTL:PT1H
BEGIN:VTIMEZONE
TZID:Europe/Zurich
BEGIN:DAYLIGHT
TZOFFSETFROM:+0100
TZOFFSETTO:+0200
TZNAME:CEST
DTSTART:20230326T010000
END:DAYLIGHT
BEGIN:STANDARD
TZOFFSETFROM:+0200
TZOFFSETTO:+0100
TZNAME:CET
DTSTART:20231029T010000
END:STANDARD
BEGIN:DAYLIGHT
TZOFFSETFROM:+0100
TZOFFSETTO:+0200
TZNAME:CEST
DTSTART:20240331T010000
END:DAYLIGHT
BEGIN:STANDARD
TZOFFSETFROM:+0200
TZOFFSETTO:+0100
TZNAME:CET
DTSTART:20241027T010000
END:STANDARD
BEGIN:DAYLIGHT
TZOFFSETFROM:+0100
TZOFFSETTO:+0200
TZNAME:CEST
DTSTART:20250330T010000
END:DAYLIGHT
BEGIN:STANDARD
TZOFFSETFROM:+0200
TZOFFSETTO:+0100
TZNAME:CET
DTSTART:20251026T010000
END:STANDARD
END:VTIMEZONE
BEGIN:VEVENT
DTSTART;TZID=Europe/Zurich:20240727T000000
DTEND;TZID=Europe/Zurich:20240804T235959
DTSTAMP:20260422T035031
CREATED:20240328T175945Z
LAST-MODIFIED:20240328T175946Z
UID:37899-1722038400-1722815999@swiss-fencing.ch
SUMMARY:Paris (FRA) - Olympic Games
DESCRIPTION:
URL:https://swiss-fencing.ch/de/cal/paris-fra-olympic-games/
CATEGORIES:Championnats du Monde/Europe
END:VEVENT
BEGIN:VEVENT
DTSTART;TZID=Europe/Zurich:20240831T000000
DTEND;TZID=Europe/Zurich:20240901T235959
DTSTAMP:20260422T035031
CREATED:20240818T201324Z
LAST-MODIFIED:20240818T202035Z
UID:41951-1725062400-1725235199@swiss-fencing.ch
SUMMARY:Baden (SUI) – Kaiser Albrecht Turnier 2024
DESCRIPTION:
URL:https://swiss-fencing.ch/de/cal/baden-sui-kaiser-albrecht-turnier-2024/
CATEGORIES:Tournoi non-seléctif
END:VEVENT
END:VCALENDAR