BEGIN:VCALENDAR
VERSION:2.0
PRODID:-//Swiss Fencing - ECPv6.15.20//NONSGML v1.0//EN
CALSCALE:GREGORIAN
METHOD:PUBLISH
X-WR-CALNAME:Swiss Fencing
X-ORIGINAL-URL:https://swiss-fencing.ch/de/
X-WR-CALDESC:Veranstaltungen für Swiss Fencing
REFRESH-INTERVAL;VALUE=DURATION:PT1H
X-Robots-Tag:noindex
X-PUBLISHED-TTL:PT1H
BEGIN:VTIMEZONE
TZID:Europe/Zurich
BEGIN:DAYLIGHT
TZOFFSETFROM:+0100
TZOFFSETTO:+0200
TZNAME:CEST
DTSTART:20230326T010000
END:DAYLIGHT
BEGIN:STANDARD
TZOFFSETFROM:+0200
TZOFFSETTO:+0100
TZNAME:CET
DTSTART:20231029T010000
END:STANDARD
BEGIN:DAYLIGHT
TZOFFSETFROM:+0100
TZOFFSETTO:+0200
TZNAME:CEST
DTSTART:20240331T010000
END:DAYLIGHT
BEGIN:STANDARD
TZOFFSETFROM:+0200
TZOFFSETTO:+0100
TZNAME:CET
DTSTART:20241027T010000
END:STANDARD
BEGIN:DAYLIGHT
TZOFFSETFROM:+0100
TZOFFSETTO:+0200
TZNAME:CEST
DTSTART:20250330T010000
END:DAYLIGHT
BEGIN:STANDARD
TZOFFSETFROM:+0200
TZOFFSETTO:+0100
TZNAME:CET
DTSTART:20251026T010000
END:STANDARD
END:VTIMEZONE
BEGIN:VEVENT
DTSTART;TZID=Europe/Zurich:20241005T000000
DTEND;TZID=Europe/Zurich:20241006T235959
DTSTAMP:20260422T070510
CREATED:20240818T203409Z
LAST-MODIFIED:20240818T203409Z
UID:41987-1728086400-1728259199@swiss-fencing.ch
SUMMARY:Genève (SUI) – Satellite Tournament
DESCRIPTION:
URL:https://swiss-fencing.ch/de/cal/geneve-sui-satellite-tournament/
CATEGORIES:Satellite FIE
END:VEVENT
BEGIN:VEVENT
DTSTART;TZID=Europe/Zurich:20241005T000000
DTEND;TZID=Europe/Zurich:20241006T235959
DTSTAMP:20260422T070510
CREATED:20240818T203505Z
LAST-MODIFIED:20240923T172601Z
UID:41991-1728086400-1728259199@swiss-fencing.ch
SUMMARY:Locarno (SUI) – Circuit National Jeunesse
DESCRIPTION:
URL:https://swiss-fencing.ch/de/cal/locarno-sui-circuit-national-jeunesse/
CATEGORIES:Circuit National
END:VEVENT
BEGIN:VEVENT
DTSTART;TZID=Europe/Zurich:20241005T000000
DTEND;TZID=Europe/Zurich:20241006T235959
DTSTAMP:20260422T070510
CREATED:20240818T203506Z
LAST-MODIFIED:20240818T203506Z
UID:41993-1728086400-1728259199@swiss-fencing.ch
SUMMARY:Genève (SUI) – Circuit National Jeunesse
DESCRIPTION:
URL:https://swiss-fencing.ch/de/cal/geneve-sui-circuit-national-jeunesse/
CATEGORIES:Circuit National
END:VEVENT
BEGIN:VEVENT
DTSTART;TZID=Europe/Zurich:20241005T000000
DTEND;TZID=Europe/Zurich:20241006T235959
DTSTAMP:20260422T070510
CREATED:20240818T203507Z
LAST-MODIFIED:20240818T203507Z
UID:41995-1728086400-1728259199@swiss-fencing.ch
SUMMARY:Sofia (BUL) – Satellite Tournament
DESCRIPTION:
URL:https://swiss-fencing.ch/de/cal/sofia-bul-satellite-tournament/
CATEGORIES:Satellite FIE
END:VEVENT
BEGIN:VEVENT
DTSTART;TZID=Europe/Zurich:20241005T000000
DTEND;TZID=Europe/Zurich:20241006T235959
DTSTAMP:20260422T070510
CREATED:20240818T203550Z
LAST-MODIFIED:20240818T203550Z
UID:41997-1728086400-1728259199@swiss-fencing.ch
SUMMARY:Genève (SUI) – Qualification Suisse
DESCRIPTION:
URL:https://swiss-fencing.ch/de/cal/geneve-sui-qualification-suisse/
CATEGORIES:Qualification suisse
END:VEVENT
BEGIN:VEVENT
DTSTART;TZID=Europe/Zurich:20241005T000000
DTEND;TZID=Europe/Zurich:20241006T235959
DTSTAMP:20260422T070510
CREATED:20240818T203626Z
LAST-MODIFIED:20240923T173453Z
UID:41999-1728086400-1728259199@swiss-fencing.ch
SUMMARY:Locarno (SUI) – Qualification Suisse
DESCRIPTION:
URL:https://swiss-fencing.ch/de/cal/locarno-sui-qualification-suisse/
CATEGORIES:Qualification suisse
END:VEVENT
BEGIN:VEVENT
DTSTART;TZID=Europe/Zurich:20241012T000000
DTEND;TZID=Europe/Zurich:20241013T235959
DTSTAMP:20260422T070510
CREATED:20240818T203302Z
LAST-MODIFIED:20240818T203303Z
UID:41983-1728691200-1728863999@swiss-fencing.ch
SUMMARY:Gödöllö (HUN) – European Circuit
DESCRIPTION:
URL:https://swiss-fencing.ch/de/cal/goedoelloe-hun-european-circuit/
CATEGORIES:Tournoi de qualification A
END:VEVENT
BEGIN:VEVENT
DTSTART;TZID=Europe/Zurich:20241012T000000
DTEND;TZID=Europe/Zurich:20241013T000000
DTSTAMP:20260422T070510
CREATED:20240818T203627Z
LAST-MODIFIED:20240818T203627Z
UID:42001-1728691200-1728777600@swiss-fencing.ch
SUMMARY:Kuweit City (KUW) – Satellite Tournament
DESCRIPTION:
URL:https://swiss-fencing.ch/de/cal/kuweit-city-kuw-satellite-tournament/
CATEGORIES:Satellite FIE
END:VEVENT
BEGIN:VEVENT
DTSTART;TZID=Europe/Zurich:20241012T000000
DTEND;TZID=Europe/Zurich:20241013T235959
DTSTAMP:20260422T070510
CREATED:20240818T203750Z
LAST-MODIFIED:20240818T203751Z
UID:42003-1728691200-1728863999@swiss-fencing.ch
SUMMARY:Budapest (HUN) – European Circuit
DESCRIPTION:
URL:https://swiss-fencing.ch/de/cal/budapest-hun-european-circuit-2/
CATEGORIES:Tournoi de qualification A
END:VEVENT
BEGIN:VEVENT
DTSTART;TZID=Europe/Zurich:20241012T000000
DTEND;TZID=Europe/Zurich:20241013T235959
DTSTAMP:20260422T070510
CREATED:20240818T203751Z
LAST-MODIFIED:20240818T203751Z
UID:42005-1728691200-1728863999@swiss-fencing.ch
SUMMARY:Riyadh (KSA) – Satellite Tournament
DESCRIPTION:
URL:https://swiss-fencing.ch/de/cal/riyadh-ksa-satellite-tournament/
CATEGORIES:Satellite FIE
END:VEVENT
BEGIN:VEVENT
DTSTART;TZID=Europe/Zurich:20241012T000000
DTEND;TZID=Europe/Zurich:20241013T235959
DTSTAMP:20260422T070510
CREATED:20240818T203850Z
LAST-MODIFIED:20240818T203851Z
UID:42007-1728691200-1728863999@swiss-fencing.ch
SUMMARY:Samorin (SVK) – European Circuit
DESCRIPTION:
URL:https://swiss-fencing.ch/de/cal/samorin-svk-european-circuit/
CATEGORIES:Tournoi de qualification A
END:VEVENT
BEGIN:VEVENT
DTSTART;TZID=Europe/Zurich:20241019T000000
DTEND;TZID=Europe/Zurich:20241020T235959
DTSTAMP:20260422T070510
CREATED:20240818T203959Z
LAST-MODIFIED:20240818T203959Z
UID:42011-1729296000-1729468799@swiss-fencing.ch
SUMMARY:TBD – Fencing for everyone
DESCRIPTION:
URL:https://swiss-fencing.ch/de/cal/tbd-fencing-for-everyone/
CATEGORIES:Tournoi non-seléctif
END:VEVENT
BEGIN:VEVENT
DTSTART;TZID=Europe/Zurich:20241019T000000
DTEND;TZID=Europe/Zurich:20241020T235959
DTSTAMP:20260422T070510
CREATED:20240818T204033Z
LAST-MODIFIED:20240818T204033Z
UID:42015-1729296000-1729468799@swiss-fencing.ch
SUMMARY:Biel (SUI) – Qualification Suisse
DESCRIPTION:
URL:https://swiss-fencing.ch/de/cal/biel-sui-qualification-suisse/
CATEGORIES:Qualification suisse
END:VEVENT
BEGIN:VEVENT
DTSTART;TZID=Europe/Zurich:20241026T000000
DTEND;TZID=Europe/Zurich:20241027T235959
DTSTAMP:20260422T070510
CREATED:20240818T203917Z
LAST-MODIFIED:20240818T203918Z
UID:42009-1729900800-1730073599@swiss-fencing.ch
SUMMARY:Göteborg (SWE) – European Circuit
DESCRIPTION:
URL:https://swiss-fencing.ch/de/cal/goeteborg-swe-european-circuit/
CATEGORIES:Tournoi de qualification A
END:VEVENT
BEGIN:VEVENT
DTSTART;TZID=Europe/Zurich:20241026T000000
DTEND;TZID=Europe/Zurich:20241027T235959
DTSTAMP:20260422T070510
CREATED:20240818T204032Z
LAST-MODIFIED:20240818T204032Z
UID:42013-1729900800-1730073599@swiss-fencing.ch
SUMMARY:Barcelona (ESP) – Satellite Tournament
DESCRIPTION:
URL:https://swiss-fencing.ch/de/cal/barcelona-esp-satellite-tournament/
CATEGORIES:Satellite FIE
END:VEVENT
BEGIN:VEVENT
DTSTART;TZID=Europe/Zurich:20241026T000000
DTEND;TZID=Europe/Zurich:20241027T235959
DTSTAMP:20260422T070510
CREATED:20240818T204245Z
LAST-MODIFIED:20240818T204245Z
UID:42021-1729900800-1730073599@swiss-fencing.ch
SUMMARY:Colmar (FRA) – European Circuit
DESCRIPTION:
URL:https://swiss-fencing.ch/de/cal/colmar-fra-european-circuit/
CATEGORIES:Tournoi de qualification A
END:VEVENT
BEGIN:VEVENT
DTSTART;TZID=Europe/Zurich:20241026T000000
DTEND;TZID=Europe/Zurich:20241027T235959
DTSTAMP:20260422T070510
CREATED:20240818T204246Z
LAST-MODIFIED:20240818T204246Z
UID:42023-1729900800-1730073599@swiss-fencing.ch
SUMMARY:Klagenfurt (AUT) – European Circuit
DESCRIPTION:
URL:https://swiss-fencing.ch/de/cal/klagenfurt-aut-european-circuit/
CATEGORIES:Tournoi de qualification A
END:VEVENT
BEGIN:VEVENT
DTSTART;TZID=Europe/Zurich:20241026T000000
DTEND;TZID=Europe/Zurich:20241027T235959
DTSTAMP:20260422T070510
CREATED:20241019T165248Z
LAST-MODIFIED:20241019T165250Z
UID:44471-1729900800-1730073599@swiss-fencing.ch
SUMMARY:Sulaymaniyah (IRQ) – Satellite Tournament
DESCRIPTION:
URL:https://swiss-fencing.ch/de/cal/sulaymaniyah-irq-satellite-tournament/
CATEGORIES:Satellite FIE
END:VEVENT
BEGIN:VEVENT
DTSTART;TZID=Europe/Zurich:20241026T000000
DTEND;TZID=Europe/Zurich:20241027T235959
DTSTAMP:20260422T070510
CREATED:20241019T165746Z
LAST-MODIFIED:20241019T165759Z
UID:44475-1729900800-1730073599@swiss-fencing.ch
SUMMARY:Zevio (ITA) – Circuit National Vétéran
DESCRIPTION:
URL:https://swiss-fencing.ch/de/cal/zevio-ita-circuit-national-veteran/
CATEGORIES:Circuit National
END:VEVENT
BEGIN:VEVENT
DTSTART;TZID=Europe/Zurich:20241026T000000
DTEND;TZID=Europe/Zurich:20241027T235959
DTSTAMP:20260422T070510
CREATED:20241022T205054Z
LAST-MODIFIED:20241022T205058Z
UID:44811-1729900800-1730073599@swiss-fencing.ch
SUMMARY:Zevio (ITA) - CNV
DESCRIPTION:
URL:https://swiss-fencing.ch/de/cal/zevio-ita-cnv/
CATEGORIES:Circuit National
END:VEVENT
END:VCALENDAR